BEGIN:VCALENDAR
VERSION:2.0
CALSCALE:GREGORIAN
METHOD:REQUEST
PRODID:Erie Events
BEGIN:VEVENT
UID: 958369e77d060740a@
SUMMARY:Breaking Benjamin
DTSTAMP:20260421T093502
DTSTART:20220503T183000
DTEND:20220503T183000
LOCATION:
DESCRIPTION:with special guests<br />
Seether<br />
Starset<br />
Lacey Sturm<br />
<br />
May 3, 2022; 6:30pm<br />
Erie Insurance Arena<br />
<br />
Door at 5:30pm<br />
<br />
BREAKING BENJAMIN VIP PACKAGES<br />
<br />
VIP1 Diamond VIP On Stage Entire Show $600.00<br />
<br />
Extremely Limited Availability<br />
 On Stage Viewing For Breaking Benjamin’s Entire Set<br />
 Join BB for an intimate acoustic performance with songs you get to vote on, and a Q&amp;A. Group photo of all acoustic performance participants.<br />
VIP early entry into the venue<br />
Collector’s Event Specific Commemorative Ticket<br />
Exclusive VIP Merchandise<br />
Limited Edition Commemorative Laminate &amp; Lanyard<br />
On-Site VIP Host<br />
Crowd-free merchandise shopping<br />
<br />
VIP2 Intimate Acoustic Performance + Merch + Early Entry $284.30<br />
<br />
Limited Availability<br />
Join BB for an intimate acoustic performance with songs you get to vote on, and a Q&amp;A. Group photo of all acoustic performance participants.<br />
VIP early entry into the venue<br />
Collector’s Event Specific Commemorative Ticket<br />
Exclusive VIP Merchandise<br />
Limited Edition Commemorative Laminate &amp; Lanyard<br />
On-Site VIP Host<br />
Crowd-free merchandise shopping<br />
<br />
VIP3 Early Entry + Merch Package $198.90<br />
<br />
Exclusive VIP Merchandise<br />
VIP early entry into the venue<br />
Collector’s Event Specific Commemorative Ticket<br />
Limited Edition Commemorative Laminate &amp; Lanyard<br />
On-Site VIP Host<br />
Crowd-free merchandise shopping<br />
<br />
VIP4 Early Entry Package $134.85<br />
<br />
VIP early entry into the venue<br />
Collector’s Event Specific Commemorative Ticket<br />
Limited Edition Commemorative Laminate &amp; Lanyard<br />
On-Site VIP Host<br />
Crowd-free merchandise shopping<br />
<br />
BUY BREAKING BENJAMIN VIP PACKAGES NOW! <br />
<br />
* VIP Package details below<br />
<br />
SEETHER VIP PACKAGE $177.55<br />
<br />
Seether Early Entry VIP Package<br />
<br />
One General Admission Ticket<br />
One Autographed Poster<br />
One Seether Collectable Coin (Valid for merch discounts, special content &amp; more)<br />
One T-Shirt (chosen at merch booth)<br />
Early Entry (where available)<br />
Crowd-Free Merchandise Shopping (where available)<br />
VIP details will be emailed to buyers about 3-5 days before the show. <br />
<br />
BUY SEETHER VIP PACKAGE NOW! <br />
<br />
 <br />
<br />
Tickets can be purchased at the Erie Insurance Arena box office or by calling (814) 452-4857<br />
<br />
PUBLIC SALE<br />
<br />
BUY NOW! <br />
<br />
There are no COVID restrictions for this event. Masks are not required, vaccinations are not required. <br />
<br />
Package details subject to change without notice. VIPs will receive an email from vip@breakingbenjamin.com approximately 1-3 days before the performance date with instructions regarding the fulfillment of the VIP Package items and additional details regarding day of show information. This information will also be posted at vip.breakingbenjamin.com<br />
<br />
You must bring a valid PHOTO ID matching the PURCHASER on your order. Those who cannot present a photo ID matching the PURCHASER on the order will be not be REFUNDABLE, NON-TRANSFERABLE AND NO WILL CALL NAME CHANGES WILL BE PERMITTED UNDER ANY CIRCUMSTANCES. VIP Packages CANNOT BE EXCHANGED OR RESOLD AND ARE NOT REDEEMABLE FOR CASH. Please note this offer is not valid if this ticket was purchased via Fan to Fan Resale. Please check with the venue directly for any age restrictions. VIPs understand that fulfillment activities may be conducted before the applicable show and VIPs may be required to arrive at least 1-3 hours before door time. All pre-show programs and times may vary date-to-date and subject to modification at any time for any reason.  <br />
<br />
VIP Package merchandise is normally available for pickup at check-in for the performance date, and when available at check-in will under no circumstance be shipped. Should merchandise not be available at check-in due to unforeseen circumstances, Breaking Benjamin will then ship directly to the address provided at purchase (alternate shipping addresses are not permitted) If shipped, delivery of such merchandise may occur after the event date. Merchandise is not needed for entry to the show. By purchasing a VIP Package, you will not gain or be authorized access into any venue specific VIP or backstage areas. No parental escorts without their own package purchased will be permitted.<br />
<br />
If you have ACCESSIBLE needs: please call or email our customer service representatives as soon as you have placed your order, and we will do our best to accommodate your needs based on availability.<br />
<br />
On-stage access varies from show to show based on stage size, logistical constraints, safety, and local laws. Breaking Benjamin reserves the right to deny participation to VIP activities to anyone at any time for any reason.<br />
<br />
Masks, social distancing, or other health and safety measures may be required for any VIP experience, based on current local restrictions, CDC recommendations, and other factors<br />
<br />
 
STATUS:CONFIRMED
SEQUENCE:3
END:VEVENT
END:VCALENDAR