BEGIN:VCALENDAR
VERSION:2.0
CALSCALE:GREGORIAN
METHOD:REQUEST
PRODID:Erie Events
BEGIN:VEVENT
UID: 537769e76272139e2@
SUMMARY:Erie SeaWolves vs. New Hampshire Fisher Cats
DTSTAMP:20260421T074138
DTSTART:20220518T180500
DTEND:20220518T180500
LOCATION:
DESCRIPTION:May 17, 2022; 11:05am<br />
May 18, 2022; 6:05pm<br />
May 19, 2022; 6:05pm<br />
May 20, 2022; 6:05pm<br />
May 21, 2022; 4:05pm<br />
May 22, 2022; 1:35pm<br />
<br />
UPMC Park<br />
<br />
For tickets, call (814) 456-1300<br />
<br />
www.seawolves.com<br />
<br />
 
STATUS:CONFIRMED
SEQUENCE:3
END:VEVENT
END:VCALENDAR