BEGIN:VCALENDAR
VERSION:2.0
CALSCALE:GREGORIAN
METHOD:REQUEST
PRODID:Erie Events
BEGIN:VEVENT
UID: 270269eb5bea9b9ed@
SUMMARY:Keystone State Wrestling Tournament
DTSTAMP:20260424T080250
DTSTART:20220226T080000
DTEND:20220226T160000
LOCATION:
DESCRIPTION:8:00am - 4:00pm<br />
<br />
Bayfront Convention Center<br />
<br />
Admission $15.00
STATUS:CONFIRMED
SEQUENCE:3
END:VEVENT
END:VCALENDAR