BEGIN:VCALENDAR
VERSION:2.0
CALSCALE:GREGORIAN
METHOD:REQUEST
PRODID:Erie Events
BEGIN:VEVENT
UID: 111069eb5ebb4b627@
SUMMARY:iHeartMedia Bridal Show
DTSTAMP:20260424T081451
DTSTART:20220220T000000
DTEND:20220220T000000
LOCATION:
DESCRIPTION:February 20, 2022<br />
<br />
Bayfront Convention Center<br />
<br />
3 sessions at 12:00pm, 1:00pm, 2:00pm<br />
<br />
No admission fee, but you must register at https://epe.ticketleap.com/i-heart-bridal-expo-2022/
STATUS:CONFIRMED
SEQUENCE:3
END:VEVENT
END:VCALENDAR