BEGIN:VCALENDAR
VERSION:2.0
CALSCALE:GREGORIAN
METHOD:REQUEST
PRODID:Erie Events
BEGIN:VEVENT
UID: 307869ecac6518130@
SUMMARY:Automobile Association of Erie County Auto Show
DTSTAMP:20260425T075829
DTSTART:20220206T100000
DTEND:20220206T150000
LOCATION:
DESCRIPTION:February 3, 2022; 12:00pm - 8:00pm<br />
February 4, 2022; 12:00pm - 8:00pm<br />
February 5, 2022; 10:00am - 8:00pm<br />
February 6, 2022: 10:00am - 3:00pm<br />
<br />
Bayfront Convention Center<br />
<br />
Admission $5.00<br />
Children 10 and under are free<br />
<br />
www.eriepromotions.com
STATUS:CONFIRMED
SEQUENCE:3
END:VEVENT
END:VCALENDAR