BEGIN:VCALENDAR
VERSION:2.0
CALSCALE:GREGORIAN
METHOD:REQUEST
PRODID:Erie Events
BEGIN:VEVENT
UID: 720069e8b41e9bd7a@
SUMMARY:The British Invasion - Live On Stage
DTSTAMP:20260422T074222
DTSTART:20220309T193000
DTEND:20220309T193000
LOCATION:
DESCRIPTION:March 9, 2022; 7:30pm<br />
Warner Theatre<br />
presented by Broadway In Erie<br />
<br />
THE BRITISH INVASION - LIVE ON STAGE is an immersive multi-media show that will place you at the front and centre of pop culture history. Huge projection period photos and original film footage recreate the era’s excitement, fashion, and headlines; all the while a full live band<br />
performs all of the hits of the Swingin’ 60’s; the iconic British pop sound that swept across America and the world.<br />
<br />
SINGLE TICKETS GO ON SALE THURSDAY, FEBRUARY 3RD AT 10:00AM<br />
<br />
Tickets can be purchased at the Erie Insurance Arena box office or by calling (814) 452-4857<br />
<br />
BUY NOW! <br />
<br />
Broadway In Erie COVID-19 POLICY<br />
<br />
Broadway In Erie requires patrons ages 12 and older to provide evidence they are fully vaccinated or present evidence of a negative result from a COVID test 24 – 72 hours prior to curtain for entry for performances in the auditorium.<br />
<br />
Patrons are required to wear face coverings at all times and in all areas of the Warner Theatre, including while seated during the performance.<br />
<br />
 
STATUS:CONFIRMED
SEQUENCE:3
END:VEVENT
END:VCALENDAR