BEGIN:VCALENDAR
VERSION:2.0
CALSCALE:GREGORIAN
METHOD:REQUEST
PRODID:Erie Events
BEGIN:VEVENT
UID: 762069e73e8352358@
SUMMARY:Summer - The Donna Summer Musical
DTSTAMP:20260421T050819
DTSTART:20220406T193000
DTEND:20220406T193000
LOCATION:
DESCRIPTION:April 5, 2022; 7:30pm<br />
April 6, 2022: 7:30pm<br />
Warner Theatre<br />
presented by Broadway In Erie<br />
<br />
She was a girl from Boston with a voice from heaven, who shot through the stars from gospel choir to dance floor diva. But what the world didn’t know was how Donna Summer risked it all to break through barriers, becoming the icon of an era and the inspiration for every music diva who followed. With a score featuring more than 20 of Summer’s classic hits including “Love to Love You Baby,” “Bad Girls” and “Hot Stuff,” this electric experience is a moving tribute to the voice of a generation.<br />
<br />
Tickets can be purchased at the Erie Insurance Arena box office or by calling (814) 452-4857<br />
<br />
BUY NOW! <br />
<br />
 
STATUS:CONFIRMED
SEQUENCE:3
END:VEVENT
END:VCALENDAR