BEGIN:VCALENDAR
VERSION:2.0
CALSCALE:GREGORIAN
METHOD:REQUEST
PRODID:Erie Events
BEGIN:VEVENT
UID: 915069e8a64a8e53e@
SUMMARY:An Officer And A Gentleman
DTSTAMP:20260422T064322
DTSTART:20220214T193000
DTEND:20220214T193000
LOCATION:
DESCRIPTION:February 14, 2022; 7:30pm<br />
February 15,2022; 7:30pm<br />
Warner Theatre<br />
presented by Broadway In Erie<br />
<br />
A SWEEPING ROMANCE THAT LIFTS YOU UP WHERE YOU BELONG!<br />
Based on the Oscar-winning film, AN OFFICER AND A GENTLEMAN is the timeless love story that celebrates<br />
triumph over adversity. The new musical features an iconic score including the Grammy and Oscar-winning #1 hit “Up Where We Belong” (Joe Cocker/Jennifer Warnes), and your favorite 80’s hits including: “Higher Love” (Steve Winwood), “Owner of a Lonely Heart” (Yes), “Love is a Battlefield” and “Invincible” (Pat Benatar), “Lost In Your Eyes” (Debbie Gibson), “Renegade” (Styx), and more!<br />
<br />
Season tickets are currently on sale. The season includes:<br />
<br />
An Officer And A Gentleman February 14 &amp; 15, 2022<br />
Waitress March 1 &amp; 2, 2022<br />
Summer - The Donna Summer Musical April 5 &amp; 6, 2022<br />
Roald Dahl&#039;s Charlie And The Chocolate Factory May 24 &amp; 25, 2022<br />
<br />
2 season packages are available.<br />
<br />
Package A<br />
The first night of every performance<br />
<br />
BUY PACKAGE A NOW! <br />
<br />
Package B<br />
The 2nd night of every performance<br />
<br />
BUY PACKAGE B NOW! <br />
<br />
After purchasing a season package, you will receive confirmation and seat location December 14-17, 2021.<br />
<br />
Season packages can also be purchased at the Erie Insurance Arena box office or by calling (814) 452-4857<br />
<br />
SINGLE TICKETS GO ON SALE MONDAY, JANUARY 10TH AT 10:00AM<br />
<br />
Monday, February 14 performance<br />
<br />
BUY NOW!<br />
<br />
Tuesday, February 15 performance<br />
<br />
BUY NOW! <br />
<br />
 <br />
<br />
Broadway In Erie COVID-19 POLICY<br />
<br />
Broadway In Erie requires patrons ages 12 and older to provide evidence they are fully vaccinated or present evidence of a negative result from a COVID test 24 – 72 hours prior to curtain for entry for performances in the auditorium.<br />
<br />
Patrons are required to wear face coverings at all times and in all areas of the Warner Theatre, including while seated during the performance.
STATUS:CONFIRMED
SEQUENCE:3
END:VEVENT
END:VCALENDAR