BEGIN:VCALENDAR
VERSION:2.0
CALSCALE:GREGORIAN
METHOD:REQUEST
PRODID:Erie Events
BEGIN:VEVENT
UID: 610169e76ed58d19f@
SUMMARY:Erie Kennel Club Dog Show
DTSTAMP:20260421T083429
DTSTART:20220130T080000
DTEND:20220130T170000
LOCATION:
DESCRIPTION:January 29 &amp; 30, 2022<br />
8AM - 5PM<br />
Bayfront Convention Center<br />
<br />
www.eriekennelclub.com
STATUS:CONFIRMED
SEQUENCE:3
END:VEVENT
END:VCALENDAR