BEGIN:VCALENDAR
VERSION:2.0
CALSCALE:GREGORIAN
METHOD:REQUEST
PRODID:Erie Events
BEGIN:VEVENT
UID: 1679669e76e3dd3679@
SUMMARY:Erie Kennel Club Dog Show
DTSTAMP:20260421T083157
DTSTART:20220129T080000
DTEND:20220129T170000
LOCATION:
DESCRIPTION:January 29 &amp; 30, 2022<br />
8AM - 5PM<br />
Bayfront Convention Center<br />
<br />
www.eriekennelclub.com
STATUS:CONFIRMED
SEQUENCE:3
END:VEVENT
END:VCALENDAR