BEGIN:VCALENDAR
VERSION:2.0
CALSCALE:GREGORIAN
METHOD:REQUEST
PRODID:Erie Events
BEGIN:VEVENT
UID: 2077169e76ffac685f@
SUMMARY:Rambler Wrestling Club
DTSTAMP:20260421T083922
DTSTART:20220109T070000
DTEND:20220109T170000
LOCATION:
DESCRIPTION:January 8 &amp; 9, 2022<br />
7am - 5pm<br />
Bayfront Convention Center<br />
<br />
 Free &amp; open to the public
STATUS:CONFIRMED
SEQUENCE:3
END:VEVENT
END:VCALENDAR