BEGIN:VCALENDAR
VERSION:2.0
CALSCALE:GREGORIAN
METHOD:REQUEST
PRODID:Erie Events
BEGIN:VEVENT
UID: 881169e76f47439bf@
SUMMARY:Rambler Wrestling Club
DTSTAMP:20260421T083623
DTSTART:20220108T070000
DTEND:20220108T170000
LOCATION:
DESCRIPTION:January 8 &amp; 9, 2022<br />
7am - 5pm<br />
Bayfront Convention Center<br />
<br />
 Free &amp; open to the public
STATUS:CONFIRMED
SEQUENCE:3
END:VEVENT
END:VCALENDAR