BEGIN:VCALENDAR
VERSION:2.0
CALSCALE:GREGORIAN
METHOD:REQUEST
PRODID:Erie Events
BEGIN:VEVENT
UID: 757269e9aa1829508@
SUMMARY:Boogie On The Bay New Year&#039;s Eve Party
DTSTAMP:20260423T011152
DTSTART:20211231T210000
DTEND:20211231T010000
LOCATION:
DESCRIPTION:Tables of 10 are available. Tables can be purchased at the Erie Insurance Arena box office or by calling (814) 452-4857.<br />
<br />
Tickets can be purchased at the Erie Insurance Arena box office, by calling (814) 452-4857 or at the link below.<br />
<br />
BUY TICKETS NOW! <br />
<br />
 <br />
<br />
 
STATUS:CONFIRMED
SEQUENCE:3
END:VEVENT
END:VCALENDAR