BEGIN:VCALENDAR
VERSION:2.0
CALSCALE:GREGORIAN
METHOD:REQUEST
PRODID:Erie Events
BEGIN:VEVENT
UID: 267269ed447dcb6e1@
SUMMARY:Bayfront Brawl 11
DTSTAMP:20260425T184725
DTSTART:20211124T190000
DTEND:20211124T190000
LOCATION:
DESCRIPTION:November 24, 2021; 7:00pm<br />
<br />
Bayfront Convention Center<br />
<br />
 <br />
<br />
Tickets can be purchased at the Erie Insurance Arena box office or by calling (814) 452-4857<br />
<br />
 <br />
<br />
BUY NOW! 
STATUS:CONFIRMED
SEQUENCE:3
END:VEVENT
END:VCALENDAR