BEGIN:VCALENDAR
VERSION:2.0
CALSCALE:GREGORIAN
METHOD:REQUEST
PRODID:Erie Events
BEGIN:VEVENT
UID: 320569eb5c05226fc@
SUMMARY:Erie Otters vs. Owen Sound
DTSTAMP:20260424T080317
DTSTART:20220210T180000
DTEND:20220210T180000
LOCATION:
DESCRIPTION:Thursday, February 10, 2022; 6:00pm<br />
<br />
Erie Insurance Arena<br />
<br />
 <br />
<br />
Tickets can be purchased at the Erie Insurance Arena box office or by calling (814) 452-4857<br />
<br />
 <br />
<br />
BUY NOW! 
STATUS:CONFIRMED
SEQUENCE:3
END:VEVENT
END:VCALENDAR