BEGIN:VCALENDAR
VERSION:2.0
CALSCALE:GREGORIAN
METHOD:REQUEST
PRODID:Erie Events
BEGIN:VEVENT
UID: 1940969e7715f93359@
SUMMARY:Erie Otters vs. Kitchener
DTSTAMP:20260421T084519
DTSTART:20220108T190000
DTEND:20220108T190000
LOCATION:
DESCRIPTION:Saturday, January 8, 2022; 7:00pm<br />
<br />
Erie Insurance Arena<br />
<br />
THIS GAME HAS BEEN RESCHEDULED FOR JANUARY 13TH. <br />
<br />
TICKETS WILL BE GOOD FOR THE RESCHEDULED GAME. <br />
<br />
REFUNDS ARE AVAILABLE AT THE ERIE INSURANCE ARENA BOX OFFICE (814) 452-4857<br />
<br />
More info here<br />
<br />
 <br />
<br />
 BUY TICKETS FOR JANUARY 13
STATUS:CONFIRMED
SEQUENCE:3
END:VEVENT
END:VCALENDAR