BEGIN:VCALENDAR
VERSION:2.0
CALSCALE:GREGORIAN
METHOD:REQUEST
PRODID:Erie Events
BEGIN:VEVENT
UID: 592869e9a97847d7b@
SUMMARY:Erie Otters vs. Guelph
DTSTAMP:20260423T010912
DTSTART:20211231T180000
DTEND:20211231T180000
LOCATION:
DESCRIPTION:Friday, December 31, 2021<br />
<br />
Erie Insurance Arena<br />
<br />
 <br />
<br />
This game has been postponed. <br />
<br />
 
STATUS:CONFIRMED
SEQUENCE:3
END:VEVENT
END:VCALENDAR