BEGIN:VCALENDAR
VERSION:2.0
CALSCALE:GREGORIAN
METHOD:REQUEST
PRODID:Erie Events
BEGIN:VEVENT
UID: 1205969e78400d7d35@
SUMMARY:Erie Otters vs. Saginaw Home Opener
DTSTAMP:20260421T100448
DTSTART:20211023T190000
DTEND:20211023T190000
LOCATION:
DESCRIPTION:Saturday, October 23, 2021; 7:00pm<br />
<br />
Erie Insurance Arena<br />
<br />
 <br />
<br />
Tickets can be purchased at the Erie Insurance Arena box office or by calling (814) 452-4857. <br />
<br />
 <br />
<br />
BUY NOW!  
STATUS:CONFIRMED
SEQUENCE:3
END:VEVENT
END:VCALENDAR