BEGIN:VCALENDAR
VERSION:2.0
CALSCALE:GREGORIAN
METHOD:REQUEST
PRODID:Erie Events
BEGIN:VEVENT
UID: 171669eb5e4e0f9b8@
SUMMARY:Metal Militia National Power Lifting Invitational
DTSTAMP:20260424T081302
DTSTART:20210717T090000
DTEND:20210717T190000
LOCATION:
DESCRIPTION:Saturday, July 17, 2021; 9am - 7pm<br />
<br />
Sunday, July 18, 2021; 9am - 3pm<br />
<br />
Bayfront Convention Center<br />
<br />
 <br />
<br />
Free &amp; open to the public<br />
<br />
 <br />
<br />
www.metalmilitiapowerlifting.com<br />
<br />
 
STATUS:CONFIRMED
SEQUENCE:3
END:VEVENT
END:VCALENDAR