BEGIN:VCALENDAR
VERSION:2.0
CALSCALE:GREGORIAN
METHOD:REQUEST
PRODID:Erie Events
BEGIN:VEVENT
UID: 267469eb5d5ba3ae3@
SUMMARY:Great Lakes Jeep Jam
DTSTAMP:20260424T080859
DTSTART:20210716T190000
DTEND:20210716T220000
LOCATION:
DESCRIPTION:Friday, July 16, 2021<br />
<br />
7:00pm - 10:00pm<br />
<br />
Bayfront Convention Center Parking Lot<br />
<br />
Free &amp; open to the public<br />
<br />
 <br />
<br />
www.greatlakesjeepjam.com<br />
<br />
 
STATUS:CONFIRMED
SEQUENCE:3
END:VEVENT
END:VCALENDAR