BEGIN:VCALENDAR
VERSION:2.0
CALSCALE:GREGORIAN
METHOD:REQUEST
PRODID:Erie Events
BEGIN:VEVENT
UID: 673069e765331e9f6@
SUMMARY:Mahler&#039;s Resurrection
DTSTAMP:20260421T075323
DTSTART:20220626T150000
DTEND:20220626T150000
LOCATION:811 State Street Erie, PA 16501
DESCRIPTION:presented by the Erie Philharmonic<br />
<br />
Sunday, June 26, 2022; 3:00pm<br />
<br />
Warner Theatre<br />
<br />
 <br />
<br />
Tian Rise<br />
<br />
Mahler Symphony No. 2, ‘Resurrection’<br />
<br />
Erie Philharmonic Chorus<br />
<br />
Felicia Moore, soprano<br />
<br />
Daryl Freedman, mezzo soprano<br />
<br />
Tickets can be purchased at www.eriephil.org
STATUS:CONFIRMED
SEQUENCE:3
END:VEVENT
END:VCALENDAR