BEGIN:VCALENDAR
VERSION:2.0
CALSCALE:GREGORIAN
METHOD:REQUEST
PRODID:Erie Events
BEGIN:VEVENT
UID: 810269ea066c0b656@
SUMMARY:The Sorcerer&#039;s Apprentice
DTSTAMP:20260423T074548
DTSTART:20220226T200000
DTEND:20220226T200000
LOCATION:811 State Street Erie, PA 16501
DESCRIPTION:presented by the Erie Philharmonic<br />
<br />
Saturday, February 26, 2022; 8:00pm<br />
<br />
Warner Theatre<br />
<br />
 <br />
<br />
Dukas The Sorcerer’s Apprentice <br />
<br />
Poulenc Concerto for Organ, Timpani and Strings<br />
<br />
Cameron Carpenter, organ<br />
<br />
Franck Symphony in D<br />
<br />
 <br />
<br />
Tickets can be purchased at www.eriephil.org
STATUS:CONFIRMED
SEQUENCE:3
END:VEVENT
END:VCALENDAR