BEGIN:VCALENDAR
VERSION:2.0
CALSCALE:GREGORIAN
METHOD:REQUEST
PRODID:Erie Events
BEGIN:VEVENT
UID: 46269eb5bf02a0b4@
SUMMARY:Erie SeaWolves vs. Akron RubberDucks
DTSTAMP:20260424T080256
DTSTART:20210801T133500
DTEND:20210801T133500
LOCATION:110 E 10th Street Erie, PA 16502
DESCRIPTION:July 27, 2021; 7:05pm<br />
<br />
July 28, 2021; 7:05pm<br />
<br />
July 29, 2021; 7:05pm<br />
<br />
July 30, 2021; 7:05pm<br />
<br />
July 31, 2021; 7:05pm<br />
<br />
August 1, 2021; 1:35pm<br />
<br />
UPMC Park<br />
<br />
 <br />
<br />
For tickets &amp; more information, www.seawolves.com
STATUS:CONFIRMED
SEQUENCE:3
END:VEVENT
END:VCALENDAR