BEGIN:VCALENDAR
VERSION:2.0
CALSCALE:GREGORIAN
METHOD:REQUEST
PRODID:Erie Events
BEGIN:VEVENT
UID: 627869e77d700cea9@
SUMMARY:High School Baseball
DTSTAMP:20260421T093648
DTSTART:20210428T183000
DTEND:20210428T183000
LOCATION:110 E 10th Street Erie, PA 16502
DESCRIPTION:General McLane vs. McDowell <br />
<br />
Wednesday, April 28, 2021<br />
<br />
4pm &amp; 6:30pm<br />
<br />
 <br />
<br />
Fans are allowed to attend the games. <br />
<br />
Tickets can be purchased at UPMC Park&#039;s new main entrance on the day of the game
STATUS:CONFIRMED
SEQUENCE:3
END:VEVENT
END:VCALENDAR