BEGIN:VCALENDAR
VERSION:2.0
CALSCALE:GREGORIAN
METHOD:REQUEST
PRODID:Erie Events
BEGIN:VEVENT
UID: 1338369e785b5600e1@
SUMMARY:High School Baseball
DTSTAMP:20260421T101205
DTSTART:20210427T190000
DTEND:20210427T190000
LOCATION:110 E 10th Street Erie, PA 16502
DESCRIPTION:Girard vs. Mercyhurst Prep Doubleheader<br />
<br />
Tuesday, April 27, 2021<br />
<br />
4pm &amp; 7pm<br />
<br />
 <br />
<br />
Fans are allowed to attend the games. <br />
<br />
Tickets can be purchased at UPMC Park&#039;s new main entrance on the day of the game
STATUS:CONFIRMED
SEQUENCE:3
END:VEVENT
END:VCALENDAR