BEGIN:VCALENDAR
VERSION:2.0
CALSCALE:GREGORIAN
METHOD:REQUEST
PRODID:Erie Events
BEGIN:VEVENT
UID: 570369e78482c8523@
SUMMARY:High School Baseball
DTSTAMP:20260421T100658
DTSTART:20210422T190000
DTEND:20210422T190000
LOCATION:110 E 10th Street Erie, PA 16502
DESCRIPTION:West Middlesex vs. Mercyhurst Prep <br />
<br />
Monday, April 19, 2021<br />
<br />
4pm <br />
<br />
Game 2 Opponents TBA<br />
<br />
 <br />
<br />
Fans are allowed to attend the games. <br />
<br />
Tickets can be purchased at UPMC Park&#039;s new main entrance on the day of the game
STATUS:CONFIRMED
SEQUENCE:3
END:VEVENT
END:VCALENDAR