BEGIN:VCALENDAR
VERSION:2.0
CALSCALE:GREGORIAN
METHOD:REQUEST
PRODID:Erie Events
BEGIN:VEVENT
UID: 917969e78449671b3@
SUMMARY:High School Baseball
DTSTAMP:20260421T100601
DTSTART:20210410T110000
DTEND:20210410T110000
LOCATION:110 E 10th Street Erie, PA 16502
DESCRIPTION:Harbor Creek vs. Cathedral Prep Doubleheader<br />
<br />
Saturday, April 10, 2021<br />
<br />
11am &amp; 1:30pm<br />
<br />
 <br />
<br />
Fans are permitted to attend. <br />
<br />
Tickets can be purchased at UPMC Park&#039;s new entrance on the day of the game. 
STATUS:CONFIRMED
SEQUENCE:3
END:VEVENT
END:VCALENDAR