BEGIN:VCALENDAR
VERSION:2.0
CALSCALE:GREGORIAN
METHOD:REQUEST
PRODID:Erie Events
BEGIN:VEVENT
UID: 2382669e785e352f57@
SUMMARY:High School Baseball 
DTSTAMP:20260421T101251
DTSTART:20210406T183000
DTEND:20210406T183000
LOCATION:110 E 10th Street Erie, PA 16502
DESCRIPTION:Fort LeBoeuf vs. Cathedral Prep Doubleheader<br />
<br />
Tuesday, April 6, 2021<br />
<br />
4pm &amp; 6:30pm<br />
<br />
 <br />
<br />
Fans are permitted to attend. <br />
<br />
Tickets can be purchased at UPMC Park&#039;s new entrance on the day of the game. <br />
<br />
 
STATUS:CONFIRMED
SEQUENCE:3
END:VEVENT
END:VCALENDAR