BEGIN:VCALENDAR
VERSION:2.0
CALSCALE:GREGORIAN
METHOD:REQUEST
PRODID:Erie Events
BEGIN:VEVENT
UID: 106469ed828aea551@
SUMMARY:Bids for Kids Dinner &amp; Auction
DTSTAMP:20260425T231210
DTSTART:20200215T170000
DTEND:20200215T230000
LOCATION:
DESCRIPTION:Saturday, February 15, 2020<br />
<br />
5:00pm - 11:00pm<br />
<br />
Bayfront Convention Center<br />
<br />
 <br />
<br />
Tickets: $80.00<br />
<br />
Table of 4: $420.00<br />
<br />
 <br />
<br />
www.bidsforkidserie.com
STATUS:CONFIRMED
SEQUENCE:3
END:VEVENT
END:VCALENDAR