BEGIN:VCALENDAR
VERSION:2.0
CALSCALE:GREGORIAN
METHOD:REQUEST
PRODID:Erie Events
BEGIN:VEVENT
UID: 82169ed85077a242@
SUMMARY:RV, Powersports &amp; Camping Expo
DTSTAMP:20260425T232247
DTSTART:20200207T120000
DTEND:20200207T200000
LOCATION:
DESCRIPTION:presented by Erie Promotions<br />
<br />
 <br />
<br />
Thursday, February 6; 2:00 pm - 8:00 pm<br />
<br />
Friday, February 7; 12:00pm - 8:00 pm<br />
<br />
Saturday, February 8; 10:00 am - 7:00 pm<br />
<br />
Sunday, February 9; 11:00am - 4:00pm<br />
<br />
Bayfront Convention Center<br />
<br />
 <br />
<br />
Admission-$6<br />
<br />
Children 10 and under-Free<br />
<br />
 
STATUS:CONFIRMED
SEQUENCE:3
END:VEVENT
END:VCALENDAR