BEGIN:VCALENDAR
VERSION:2.0
CALSCALE:GREGORIAN
METHOD:REQUEST
PRODID:Erie Events
BEGIN:VEVENT
UID: 2512069ed80a6b09c1@
SUMMARY:Automobile Association of Erie County Auto Show
DTSTAMP:20260425T230406
DTSTART:20200202T100000
DTEND:20200202T150000
LOCATION:
DESCRIPTION: <br />
<br />
January 30, 2020<br />
<br />
12:00pm to 8:00pm<br />
<br />
January 31, 2020<br />
<br />
12:00pm to 8:00pm<br />
<br />
February 1, 2020<br />
<br />
10:00am to 8:00pm<br />
<br />
February 2, 2020<br />
<br />
10:00am to 3:00pm<br />
<br />
 <br />
<br />
Bayfront Convention Center<br />
<br />
 <br />
<br />
Admission $5.00<br />
<br />
Children 10 &amp; under are free <br />
<br />
 <br />
<br />
 
STATUS:CONFIRMED
SEQUENCE:3
END:VEVENT
END:VCALENDAR