BEGIN:VCALENDAR
VERSION:2.0
CALSCALE:GREGORIAN
METHOD:REQUEST
PRODID:Erie Events
BEGIN:VEVENT
UID: 658069e8d6172655b@
SUMMARY:King Cobra Karate Tournament
DTSTAMP:20260422T100719
DTSTART:20200118T100000
DTEND:20200118T100000
LOCATION:
DESCRIPTION:January 18, 2020<br />
<br />
10:00am<br />
<br />
Bayfront Convention Center<br />
<br />
Adults $10.00<br />
<br />
Children $8.00 (under 12 yrs)<br />
<br />
Coaches Pass $20.00
STATUS:CONFIRMED
SEQUENCE:3
END:VEVENT
END:VCALENDAR