BEGIN:VCALENDAR
VERSION:2.0
CALSCALE:GREGORIAN
METHOD:REQUEST
PRODID:Erie Events
BEGIN:VEVENT
UID: 564569ed576a3a195@
SUMMARY:Rambler Wrestling Club Tournament
DTSTAMP:20260425T200810
DTSTART:20200105T080000
DTEND:20200105T170000
LOCATION:
DESCRIPTION:January 4 &amp; 5, 2020<br />
<br />
8am - 5pm each day<br />
<br />
Bayfront Convention Center<br />
<br />
Admission is free &amp; open to the public
STATUS:CONFIRMED
SEQUENCE:3
END:VEVENT
END:VCALENDAR