BEGIN:VCALENDAR
VERSION:2.0
CALSCALE:GREGORIAN
METHOD:REQUEST
PRODID:Erie Events
BEGIN:VEVENT
UID: 239569e73cc89a545@
SUMMARY:Dinosaur World Live! 
DTSTAMP:20260421T050056
DTSTART:20200204T183000
DTEND:20200204T183000
LOCATION:
DESCRIPTION:February 4, 2020; 6:30pm<br />
<br />
Warner Theatre<br />
<br />
 <br />
<br />
DINOSAUR WORLD LIVE<br />
<br />
 <br />
<br />
Dare to experience the dangers and delights of Dinosaur World Live in this roarsome interactive show for all the family.<br />
<br />
 <br />
<br />
Grab your compass and join our intrepid explorer across uncharted territories to discover a pre-historic world of astonishing (and remarkably life-like) dinosaurs. Meet a host of impressive creatures, including every child&#039;s favourite flesh-eating giant, the Tyrannosaurus Rex, a Triceratops, Giraffatitan, Microraptor and Segnosaurus!<br />
<br />
 <br />
<br />
A special meet and greet after the show offers all our brave explorers the chance to make a new dinosaur friend.<br />
<br />
 <br />
<br />
Don’t miss this entertaining and mind-expanding jurassic adventure, live on stage.<br />
<br />
 <br />
<br />
Book now before tickets become extinct!<br />
<br />
 <br />
<br />
dinosaurworldlive.com<br />
<br />
 <br />
<br />
SPECIAL OFFER! BUY ONE TICKET, GET ONE FREE!  <br />
<br />
Tickets can be purchased at the Erie Insurance Arena box office or by calling (814) 452-4857. <br />
<br />
 <br />
<br />
BUY NOW! 
STATUS:CONFIRMED
SEQUENCE:3
END:VEVENT
END:VCALENDAR