BEGIN:VCALENDAR
VERSION:2.0
CALSCALE:GREGORIAN
METHOD:REQUEST
PRODID:Erie Events
BEGIN:VEVENT
UID: 1211469e73edbdf0ce@
SUMMARY:Three Dog Night
DTSTAMP:20260421T050947
DTSTART:20200206T193000
DTEND:20200206T193000
LOCATION:
DESCRIPTION:February 6, 2020; 7:30pm<br />
<br />
Warner Theatre <br />
<br />
 <br />
<br />
THREE DOG NIGHT  is one of America’ most beloved “rock bands”. The band charted 21 Billboard Top 40 hits (with 3 hitting # 1) , 11 Top 10’s, 18 straight Top 20’s,7 million-selling singles and 12 straight RIAA Certified Gold LPs between 1969 and 1975. No other group achieved more top 40 hits, moved more records for sold more concert tickets than THREE DOG NIGHT!<br />
<br />
 <br />
<br />
THREE DOG NIGHT hits wind through the fabric of pop culture today, whether on the radio where they are heard day in and day out, in TV commercials or in major motion pictures -- songs like “Mama Told Me (Not To Come)”, “Joy to the World”, “Black and White”, “Shambala” and “One” serve to heighten our emotions and crystallize THREE DOG NIGHT’s continuing popularity.<br />
<br />
 <br />
<br />
Now, marking nearly 50 years on the road, THREE DOG NIGHT continues to grow its fan base by keeping up a full schedule of concerts at theatres, performing arts centers, fairs, festivals, corporate events, and casinos. Since 1986, the band has performed over 2,200 shows including two Super Bowls.<br />
<br />
 <br />
<br />
THREE DOG NIGHTS Top 40 Hits include;<br />
<br />
 <br />
<br />
Mama Told Me (Not To Come)  #1                            Eli’s Coming  #10<br />
<br />
Joy to The World  #1                                                    The Family of Man  #12<br />
<br />
Black And White  #1                                                     Liar  #7<br />
<br />
Shambala  #3                                                                 Celebrate  #15<br />
<br />
Easy To Be Hard  #4                                                      Out In The Country  #15<br />
<br />
An Old Fashioned Love Song  #4                                 Pieces of April  #19<br />
<br />
One  #5                                                                            One Man Band  #19<br />
<br />
The Show Must Go On  #4                                                                                                                     <br />
<br />
Never Been To Spain  #5<br />
<br />
 <br />
<br />
www.threedognight.com <br />
<br />
 <br />
<br />
Tickets go on sale Friday, November 8th at 10:00am. <br />
<br />
 <br />
<br />
Tickets can be purchased at the Erie Insurance Arena box office or by calling (814) 452-4857. <br />
<br />
 <br />
<br />
FAN CLUB &amp; VENUE PRESALE TICKETS<br />
<br />
BUY NOW! <br />
<br />
 <br />
<br />
PUBLIC SALE<br />
<br />
BUY NOW! <br />
<br />
 <br />
<br />
 
STATUS:CONFIRMED
SEQUENCE:3
END:VEVENT
END:VCALENDAR