BEGIN:VCALENDAR
VERSION:2.0
CALSCALE:GREGORIAN
METHOD:REQUEST
PRODID:Erie Events
BEGIN:VEVENT
UID: 537669ebc09fbd731@
SUMMARY:Highmark Healthy Living Expo
DTSTAMP:20260424T151231
DTSTART:20191019T090000
DTEND:20191019T140000
LOCATION:
DESCRIPTION:October 19, 2019<br />
<br />
9:00am - 2:00pm<br />
<br />
Bayfront Convention Center<br />
<br />
Free &amp; open to the public
STATUS:CONFIRMED
SEQUENCE:3
END:VEVENT
END:VCALENDAR