BEGIN:VCALENDAR
VERSION:2.0
CALSCALE:GREGORIAN
METHOD:REQUEST
PRODID:Erie Events
BEGIN:VEVENT
UID: 3237269ea222893f78@
SUMMARY:Erie BayHawks vs. Maine Red Claws
DTSTAMP:20260423T094408
DTSTART:20200328T190000
DTEND:20200328T190000
LOCATION:
DESCRIPTION: <br />
<br />
Saturday, March 28, 2020; 7:00pm<br />
<br />
Erie Insurance Arena<br />
<br />
 <br />
<br />
Game is postponed <br />
<br />
 <br />
<br />
www.eriebayhawks.com
STATUS:CONFIRMED
SEQUENCE:3
END:VEVENT
END:VCALENDAR