BEGIN:VCALENDAR
VERSION:2.0
CALSCALE:GREGORIAN
METHOD:REQUEST
PRODID:Erie Events
BEGIN:VEVENT
UID: 27369e7918fc6a04@
SUMMARY:Erie BayHawks vs. Wisconsin Herd
DTSTAMP:20260421T110239
DTSTART:20200313T190000
DTEND:20200313T190000
LOCATION:
DESCRIPTION: <br />
<br />
Friday, March 13, 2020; 7:00pm<br />
<br />
Erie Insurance Arena<br />
<br />
 <br />
<br />
Game is postponed<br />
<br />
 <br />
<br />
www.eriebayhawks.com
STATUS:CONFIRMED
SEQUENCE:3
END:VEVENT
END:VCALENDAR