BEGIN:VCALENDAR
VERSION:2.0
CALSCALE:GREGORIAN
METHOD:REQUEST
PRODID:Erie Events
BEGIN:VEVENT
UID: 375669e8635315f39@
SUMMARY:Bayfront Brawl 9
DTSTAMP:20260422T015739
DTSTART:20191127T190000
DTEND:20191127T190000
LOCATION:
DESCRIPTION:Wednesday, November 27, 2019; 7:00pm<br />
<br />
Bayfront Convention Center<br />
<br />
 <br />
<br />
 <br />
<br />
Tickets can be purchased at the Erie Insurance Arena box office or by calling (814) 452-4857<br />
<br />
 <br />
<br />
BUY NOW! 
STATUS:CONFIRMED
SEQUENCE:3
END:VEVENT
END:VCALENDAR