BEGIN:VCALENDAR
VERSION:2.0
CALSCALE:GREGORIAN
METHOD:REQUEST
PRODID:Erie Events
BEGIN:VEVENT
UID: 2148669e73edae2fc3@
SUMMARY:Erie Otters Exhibition Game 2
DTSTAMP:20260421T050946
DTSTART:20190901T140000
DTEND:20190901T140000
LOCATION:
DESCRIPTION: <br />
<br />
Exhibition Game  2<br />
<br />
Saturday, August 31, 2019; 7:00pm<br />
<br />
Exhibition Game 2<br />
<br />
Sunday, September 1, 2019; 2:00pm<br />
<br />
Erie Insurance Arena<br />
<br />
 <br />
<br />
Tickets can be purchased at the Erie Insurance Arena box office or by calling (814) 452-4857. <br />
<br />
BUY NOW! <br />
<br />
 <br />
<br />
Exhibition Package<br />
<br />
BUY NOW! 
STATUS:CONFIRMED
SEQUENCE:3
END:VEVENT
END:VCALENDAR