BEGIN:VCALENDAR
VERSION:2.0
CALSCALE:GREGORIAN
METHOD:REQUEST
PRODID:Erie Events
BEGIN:VEVENT
UID: 795369e75066e70ac@
SUMMARY:ComicCon
DTSTAMP:20260421T062438
DTSTART:20190913T140000
DTEND:20190913T190000
LOCATION:
DESCRIPTION:Friday, September 13, 2019; 2:00pm-7:00pm<br />
<br />
Admission $15.00<br />
<br />
Saturday, September 14, 2019; 10:00am-7:00pm<br />
<br />
Admission $18.00<br />
<br />
Sunday, September 15, 2019; 11:00am-4:00pm<br />
<br />
Admission $15.00<br />
<br />
Bayfront Convention Center<br />
<br />
 <br />
<br />
Weekend pass $30.00<br />
<br />
 <br />
<br />
Tickets can be purchased at www.eriepromotions.com.<br />
<br />
Tickets can also be purchased at the door. <br />
<br />
 
STATUS:CONFIRMED
SEQUENCE:3
END:VEVENT
END:VCALENDAR