BEGIN:VCALENDAR
VERSION:2.0
CALSCALE:GREGORIAN
METHOD:REQUEST
PRODID:Erie Events
BEGIN:VEVENT
UID: 341069e9e5fbc8ce1@
SUMMARY:Erie Otters vs. Owen Sound
DTSTAMP:20260423T052723
DTSTART:20200125T190000
DTEND:20200125T190000
LOCATION:
DESCRIPTION: <br />
<br />
Saturday, January 25, 2020; 7:00pm<br />
<br />
Erie Insurance Arena<br />
<br />
 <br />
<br />
Club Buffet $13.00<br />
<br />
Nacho Bar<br />
<br />
Refried Beans<br />
<br />
Spanish Rice<br />
<br />
Dessert<br />
<br />
 <br />
<br />
Tickets can be purchased at the Erie Insurance Arena box office or by calling (814) 452-4857. <br />
<br />
 <br />
<br />
BUY NOW! <br />
<br />
 <br />
<br />
www.ottershockey.com
STATUS:CONFIRMED
SEQUENCE:3
END:VEVENT
END:VCALENDAR