BEGIN:VCALENDAR
VERSION:2.0
CALSCALE:GREGORIAN
METHOD:REQUEST
PRODID:Erie Events
BEGIN:VEVENT
UID: 91769e8687b438f1@
SUMMARY:Erie Otters vs. Peterborough
DTSTAMP:20260422T021939
DTSTART:20191130T190000
DTEND:20191130T190000
LOCATION:
DESCRIPTION: <br />
<br />
Saturday, November 30, 2019; 7:00pm<br />
<br />
Erie Insurance Arena<br />
<br />
 <br />
<br />
Club Buffet $15.00<br />
<br />
Pasta Buffet<br />
<br />
Garlic Sticks<br />
<br />
Salad<br />
<br />
Dessert<br />
<br />
 <br />
<br />
Tickets can be purchased at the Erie Insurance Arena box office or by calling (814) 452-4857. <br />
<br />
 <br />
<br />
BUY NOW! <br />
<br />
 <br />
<br />
www.ottershockey.com
STATUS:CONFIRMED
SEQUENCE:3
END:VEVENT
END:VCALENDAR