BEGIN:VCALENDAR
VERSION:2.0
CALSCALE:GREGORIAN
METHOD:REQUEST
PRODID:Erie Events
BEGIN:VEVENT
UID: 1375869e79907906d4@
SUMMARY:Rodgers and Hammerstein in Concert
DTSTAMP:20260421T113431
DTSTART:20200625T200000
DTEND:20200625T200000
LOCATION:
DESCRIPTION: <br />
<br />
June 25, 2020; 8:00pm<br />
<br />
The Theatre in Erie Insurance Arena<br />
<br />
 <br />
<br />
Laurel and Hardy.  Bonnie and Clyde.  Calvin and Hobbes.  Batman and Robin.  Abbott and Costello…  You simply cannot imagine one existing without the other.  So too with the Broadway giants Rodgers and Hammerstein.  <br />
<br />
This classic pairing of composer (Richard Rodgers) and lyricist (Oscar Hammerstein) produced some of the most famous musicals of American history together, including The Sound of Music, Oklahoma!, South Pacific and Cinderella.  To honor this brilliant pairing, we are assembling some of our favorite moments from these iconic musicals together with an all-star local cast for an evening of Broadway hits. With a treasure trove of classic songs, ensemble numbers, and memorable moments for chorus, this is a night to celebrate this dynamic creative duo as well as the finest that Erie has to offer in vocal and instrumental talent.  <br />
<br />
Join us for the grand finale to our 2019-2020 pops season with this evening of R&amp;H!<br />
<br />
 <br />
<br />
Call (814) 455-1375 for tickets.<br />
<br />
 <br />
<br />
www.eriephil.org
STATUS:CONFIRMED
SEQUENCE:3
END:VEVENT
END:VCALENDAR