BEGIN:VCALENDAR
VERSION:2.0
CALSCALE:GREGORIAN
METHOD:REQUEST
PRODID:Erie Events
BEGIN:VEVENT
UID: 1243969e73a155ee7b@
SUMMARY:Erie Otters vs. Guelph
DTSTAMP:20260421T044925
DTSTART:20191023T110000
DTEND:20191023T110000
LOCATION:
DESCRIPTION: <br />
<br />
Wednesday, October 23, 2019; 11:00am<br />
<br />
Erie Insurance Arena<br />
<br />
 <br />
<br />
Tickets can be purchased at the Erie Insurance Arena box office or by calling (814) 452-4857. <br />
<br />
 <br />
<br />
BUY NOW! <br />
<br />
 <br />
<br />
www.ottershockey.com
STATUS:CONFIRMED
SEQUENCE:3
END:VEVENT
END:VCALENDAR