BEGIN:VCALENDAR
VERSION:2.0
CALSCALE:GREGORIAN
METHOD:REQUEST
PRODID:Erie Events
BEGIN:VEVENT
UID: 734069ebbe9d06019@
SUMMARY:Erie Otters vs. Guelph
DTSTAMP:20260424T150357
DTSTART:20191012T190000
DTEND:20191012T190000
LOCATION:
DESCRIPTION: <br />
<br />
Saturday, October 12, 2019; 7:00pm<br />
<br />
Erie Insurance Arena<br />
<br />
 <br />
<br />
Club Buffet $15.00<br />
<br />
Pasta Buffet<br />
<br />
Garlic Sticks<br />
<br />
Salad<br />
<br />
Dessert<br />
<br />
 <br />
<br />
Tickets can be purchased at the Erie Insurance Arena box office or by calling (814) 452-4857. <br />
<br />
 <br />
<br />
BUY NOW! <br />
<br />
 <br />
<br />
www.ottershockey.com
STATUS:CONFIRMED
SEQUENCE:3
END:VEVENT
END:VCALENDAR