BEGIN:VCALENDAR
VERSION:2.0
CALSCALE:GREGORIAN
METHOD:REQUEST
PRODID:Erie Events
BEGIN:VEVENT
UID: 535769e705a9015d3@
SUMMARY:Eerie Roller Girls Roller Derby
DTSTAMP:20260421T010545
DTSTART:20190713T193000
DTEND:20190713T193000
LOCATION:
DESCRIPTION: <br />
<br />
Saturday, June 13, 2019<br />
<br />
Bayfront Convention Center<br />
<br />
Doors 6:30<br />
<br />
Bout 7:30<br />
<br />
Admission $10.00 presale<br />
<br />
Door $12.00<br />
<br />
www.eerierollergirls.com
STATUS:CONFIRMED
SEQUENCE:3
END:VEVENT
END:VCALENDAR