BEGIN:VCALENDAR
VERSION:2.0
CALSCALE:GREGORIAN
METHOD:REQUEST
PRODID:Erie Events
BEGIN:VEVENT
UID: 2229069ecd58485bcc@
SUMMARY:Long&#039;s Dance Review
DTSTAMP:20260425T105356
DTSTART:20190607T190000
DTEND:20190607T190000
LOCATION:
DESCRIPTION:Friday, June 7, 2019; 7:00pm<br />
<br />
Saturday, June 8, 2019; 7:00pm<br />
<br />
Warner Theatre<br />
<br />
 <br />
<br />
Tickets go on sale Monday, May 6th at 10:00am<br />
<br />
Tickets can be purchased at the Erie Insurance Arena box office or by calling (814) 452-4857<br />
<br />
 <br />
<br />
Friday Tickets<br />
<br />
BUY NOW! <br />
<br />
Saturday Tickets<br />
<br />
BUY NOW!
STATUS:CONFIRMED
SEQUENCE:3
END:VEVENT
END:VCALENDAR