BEGIN:VCALENDAR
VERSION:2.0
CALSCALE:GREGORIAN
METHOD:REQUEST
PRODID:Erie Events
BEGIN:VEVENT
UID: 35169e73c7a0b89a@
SUMMARY:E.T. The Motion Picture
DTSTAMP:20260421T045938
DTSTART:20200209T143000
DTEND:20200209T143000
LOCATION:
DESCRIPTION: <br />
<br />
February 8, 2019; 8pm<br />
<br />
February 9, 2019 2:30pm<br />
<br />
Warner Theatre <br />
<br />
 <br />
<br />
Relive this 80’s classic as you have never experienced it before! John Williams’ epic score will be performed live, in real time, synchronized with the full-length film as it is projected above the Warner Theatre stage.<br />
<br />
All of our previous movie concerts have sold out quickly, so don’t miss this chance to see one of the most iconic films in history in Erie’s original movie palace, the Warner Theatre.<br />
<br />
 <br />
<br />
www.eriephil.org
STATUS:CONFIRMED
SEQUENCE:3
END:VEVENT
END:VCALENDAR