BEGIN:VCALENDAR
VERSION:2.0
CALSCALE:GREGORIAN
METHOD:REQUEST
PRODID:Erie Events
BEGIN:VEVENT
UID: 1042069ebbee0edb3e@
SUMMARY:Aretha Franklin Tribute
DTSTAMP:20260424T150504
DTSTART:20191019T200000
DTEND:20191019T200000
LOCATION:
DESCRIPTION: <br />
<br />
October 19, 2019<br />
<br />
Warner Theatre 8pm<br />
<br />
 <br />
<br />
R-E-S-P-E-C-T! Don’t miss this rockin’ good time as we pay homage to the Queen of Soul. You’ll hear powerhouse vocalists perform Respect, Think, Rescue Me and more!<br />
<br />
 <br />
<br />
www.eriephil.org
STATUS:CONFIRMED
SEQUENCE:3
END:VEVENT
END:VCALENDAR